BEGIN:VCALENDAR
VERSION:2.0
PRODID:-//Squarespace Inc/Squarespace 6//v6//EN
BEGIN:VEVENT
UID:5856ee15b8a79ba19ea6d3f5@squarespace.com
DTSTAMP:20161218T201440Z
DTSTART:20171002T083000Z
DTEND:20171002T093000Z
SUMMARY:Men's Prayer Night
END:VEVENT
END:VCALENDAR
