BEGIN:VCALENDAR
VERSION:2.0
PRODID:-//Squarespace Inc/Squarespace 6//v6//EN
BEGIN:VEVENT
UID:590282afd2b8576d1dda2a7b@squarespace.com
DTSTAMP:20170427T234609Z
DTSTART:20170615T000000Z
DTEND:20170615T020000Z
SUMMARY:Prime Time
END:VEVENT
END:VCALENDAR
