BEGIN:VCALENDAR
VERSION:2.0
PRODID:-//Squarespace Inc/Squarespace 6//v6//EN
BEGIN:VEVENT
UID:5848e0336b8f5bc8ca8d2722@squarespace.com
DTSTAMP:20161208T042344Z
DTSTART:20170617T033000Z
DTEND:20170617T063000Z
SUMMARY:Craft and Chat
END:VEVENT
END:VCALENDAR
