BEGIN:VCALENDAR
VERSION:2.0
PRODID:-//Squarespace Inc/Squarespace 6//v6//EN
BEGIN:VEVENT
UID:58a515e686e6c0200400f3b2@squarespace.com
DTSTAMP:20170216T030126Z
DTSTART:20170618T094500Z
DTEND:20170618T113000Z
SUMMARY:Curry Church
END:VEVENT
END:VCALENDAR
