BEGIN:VCALENDAR
VERSION:2.0
PRODID:-//Squarespace Inc/Squarespace 6//v6//EN
BEGIN:VEVENT
UID:5856eb8d37c5813a24bcc008@squarespace.com
DTSTAMP:20161218T200354Z
DTSTART:20170626T090000Z
DTEND:20170626T110000Z
SUMMARY:Overcomers Outreach
END:VEVENT
END:VCALENDAR
