BEGIN:VCALENDAR
VERSION:2.0
PRODID:-//Squarespace Inc/Squarespace 6//v6//EN
BEGIN:VEVENT
UID:590298f9d1758e0afc380182@squarespace.com
DTSTAMP:20170428T012121Z
DTSTART:20170628T043000Z
DTEND:20170628T053000Z
SUMMARY:John Paul Village Church
END:VEVENT
END:VCALENDAR
