BEGIN:VCALENDAR
VERSION:2.0
PRODID:-//Squarespace Inc/Squarespace 6//v6//EN
BEGIN:VEVENT
UID:5952e30117bffc2c95ea6dd4@squarespace.com
DTSTAMP:20170627T232058Z
DTSTART:20170627T230000Z
DTEND:20170716T100000Z
SUMMARY:Winter Series: Respectable Sins
END:VEVENT
END:VCALENDAR
