BEGIN:VCALENDAR
VERSION:2.0
PRODID:-//Squarespace Inc/Squarespace 6//v6//EN
BEGIN:VEVENT
UID:590ff149893fc0f07b7b2832@squarespace.com
DTSTAMP:20170508T041837Z
DTSTART:20170702T001500Z
DTEND:20170702T003000Z
SUMMARY:Prayer Meeting
END:VEVENT
END:VCALENDAR
