BEGIN:VCALENDAR
VERSION:2.0
PRODID:-//Squarespace Inc/Squarespace 6//v6//EN
BEGIN:VEVENT
UID:590282cb579fb347ba87a49c@squarespace.com
DTSTAMP:20170427T234635Z
DTSTART:20170720T000000Z
DTEND:20170720T020000Z
SUMMARY:Prime Time
END:VEVENT
END:VCALENDAR
