BEGIN:VCALENDAR
VERSION:2.0
PRODID:-//Squarespace Inc/Squarespace 6//v6//EN
BEGIN:VEVENT
UID:5856ebb5d482e9ab465cc51a@squarespace.com
DTSTAMP:20161218T200429Z
DTSTART:20170724T090000Z
DTEND:20170724T110000Z
SUMMARY:Overcomers Outreach
END:VEVENT
END:VCALENDAR
