BEGIN:VCALENDAR
VERSION:2.0
PRODID:-//Squarespace Inc/Squarespace 6//v6//EN
BEGIN:VEVENT
UID:5902993f414fb57c49bfe2bc@squarespace.com
DTSTAMP:20170428T012230Z
DTSTART:20170726T043000Z
DTEND:20170726T053000Z
SUMMARY:John Paul Village Churh
END:VEVENT
END:VCALENDAR
