BEGIN:VCALENDAR
VERSION:2.0
PRODID:-//Squarespace Inc/Squarespace 6//v6//EN
BEGIN:VEVENT
UID:58b74f68893fc0058f66d024@squarespace.com
DTSTAMP:20170511T232120Z
DTSTART:20170729T080000Z
DTEND:20170729T110000Z
SUMMARY:HEAC Men's Night
END:VEVENT
END:VCALENDAR
