BEGIN:VCALENDAR
VERSION:2.0
PRODID:-//Squarespace Inc/Squarespace 6//v6//EN
BEGIN:VEVENT
UID:59029988e4fcb57c1311151d@squarespace.com
DTSTAMP:20170428T012342Z
DTSTART:20170823T043000Z
DTEND:20170823T053000Z
SUMMARY:John Paul Village Church
END:VEVENT
END:VCALENDAR
