BEGIN:VCALENDAR
VERSION:2.0
PRODID:-//Squarespace Inc/Squarespace 6//v6//EN
BEGIN:VEVENT
UID:5856ebd720099ea799f15973@squarespace.com
DTSTAMP:20161218T200503Z
DTSTART:20170828T090000Z
DTEND:20170828T110000Z
SUMMARY:Overcomers Outreach
END:VEVENT
END:VCALENDAR
