BEGIN:VCALENDAR
VERSION:2.0
PRODID:-//Squarespace Inc/Squarespace 6//v6//EN
BEGIN:VEVENT
UID:590299aacd0f68abefa112ff@squarespace.com
DTSTAMP:20170428T012416Z
DTSTART:20170913T043000Z
DTEND:20170913T053000Z
SUMMARY:John Paul Village Church
END:VEVENT
END:VCALENDAR
