BEGIN:VCALENDAR
VERSION:2.0
PRODID:-//Squarespace Inc/Squarespace 6//v6//EN
BEGIN:VEVENT
UID:59c398d1cd39c3022227ffe9@squarespace.com
DTSTAMP:20171015T022850Z
DTSTART:20170921T230000Z
DTEND:20171028T230000Z
SUMMARY:Breakfast with the Reformers
END:VEVENT
END:VCALENDAR
