BEGIN:VCALENDAR
VERSION:2.0
PRODID:-//Squarespace Inc/Squarespace 6//v6//EN
BEGIN:VEVENT
UID:590282ff414fb5f708997965@squarespace.com
DTSTAMP:20170913T231819Z
DTSTART:20170921T000000Z
DTEND:20170921T020000Z
SUMMARY:Prime Time
END:VEVENT
END:VCALENDAR
