BEGIN:VCALENDAR
VERSION:2.0
PRODID:-//Squarespace Inc/Squarespace 6//v6//EN
BEGIN:VEVENT
UID:590299cbbebafb271edb0de9@squarespace.com
DTSTAMP:20170428T012450Z
DTSTART:20170927T043000Z
DTEND:20170927T053000Z
SUMMARY:John Paul Village Church
END:VEVENT
END:VCALENDAR
