BEGIN:VCALENDAR
VERSION:2.0
PRODID:-//Squarespace Inc/Squarespace 6//v6//EN
BEGIN:VEVENT
UID:5856edf9893fc0af92ab7778@squarespace.com
DTSTAMP:20161218T201403Z
DTSTART:20170904T093000Z
DTEND:20170904T103000Z
SUMMARY:Men's Prayer Night
END:VEVENT
END:VCALENDAR
