BEGIN:VCALENDAR
VERSION:2.0
PRODID:-//Squarespace Inc/Squarespace 6//v6//EN
BEGIN:VEVENT
UID:5b1f0a3a2b6a28e9472de0a4@squarespace.com
DTSTAMP:20180611T235846Z
DTSTART:20180722T230000Z
DTEND:20180723T050000Z
SUMMARY:Science Pupil free day
GEO:-34.064593;151.012196
LOCATION:Engadine Anglican\, 8 Waratah Road\, Engadine\, NSW\, 2233\, Austr
 alia
END:VEVENT
END:VCALENDAR
