BEGIN:VCALENDAR
VERSION:2.0
PRODID:-//Squarespace Inc/Squarespace 6//v6//EN
BEGIN:VEVENT
UID:5a20dc4553450a77d2f88ddd@squarespace.com
DTSTAMP:20171201T043645Z
DTSTART:20181017T230000Z
DTEND:20181018T010000Z
SUMMARY:Prime Time
END:VEVENT
END:VCALENDAR
