BEGIN:VCALENDAR
VERSION:2.0
PRODID:-//Squarespace Inc/Squarespace 6//v6//EN
BEGIN:VEVENT
UID:5aa1f14771c10b1becdb5d8b@squarespace.com
DTSTAMP:20180309T022837Z
DTSTART:20181020T023000Z
DTEND:20181020T053000Z
SUMMARY:Craft & Chat
END:VEVENT
END:VCALENDAR
