BEGIN:VCALENDAR
VERSION:2.0
PRODID:-//Squarespace Inc/Squarespace 6//v6//EN
BEGIN:VEVENT
UID:5a20c6d5c8302566a3b19468@squarespace.com
DTSTAMP:20171201T030518Z
DTSTART:20181022T080000Z
DTEND:20181022T100000Z
SUMMARY:Overcomers Outreach
END:VEVENT
END:VCALENDAR
