BEGIN:VCALENDAR
VERSION:2.0
PRODID:-//Squarespace Inc/Squarespace 6//v6//EN
BEGIN:VEVENT
UID:5a724fef652deaf6cc3bcfe4@squarespace.com
DTSTAMP:20180921T023723Z
DTSTART:20181026T220000Z
DTEND:20181027T040000Z
SUMMARY:WOK (Without Kids) Visit to HARS Aviation Museum 
END:VEVENT
END:VCALENDAR
