BEGIN:VCALENDAR
VERSION:2.0
PRODID:-//Squarespace Inc/Squarespace 6//v6//EN
BEGIN:VEVENT
UID:5a20dc680852299886faaf64@squarespace.com
DTSTAMP:20171201T043727Z
DTSTART:20181114T230000Z
DTEND:20181115T010000Z
SUMMARY:Prime Time
END:VEVENT
END:VCALENDAR
