BEGIN:VCALENDAR
VERSION:2.0
PRODID:-//Squarespace Inc/Squarespace 6//v6//EN
BEGIN:VEVENT
UID:5aa1f15ec830253c38dc3ea5@squarespace.com
DTSTAMP:20180309T022902Z
DTSTART:20181117T023000Z
DTEND:20181117T053000Z
SUMMARY:Craft & Chat
END:VEVENT
END:VCALENDAR
