BEGIN:VCALENDAR
VERSION:2.0
PRODID:-//Squarespace Inc/Squarespace 6//v6//EN
BEGIN:VEVENT
UID:5bf1e2058985830378846b68@squarespace.com
DTSTAMP:20181118T221618Z
DTSTART:20181118T223000Z
DTEND:20181118T233000Z
SUMMARY:Kids Christmas Cracker
END:VEVENT
END:VCALENDAR
