BEGIN:VCALENDAR
VERSION:2.0
PRODID:-//Squarespace Inc/Squarespace 6//v6//EN
BEGIN:VEVENT
UID:5bf1ddf4f950b7299bb5ce32@squarespace.com
DTSTAMP:20181221T005458Z
DTSTART:20181118T220000Z
DTEND:20181230T230000Z
SUMMARY:Vision2020
END:VEVENT
END:VCALENDAR
