BEGIN:VCALENDAR
VERSION:2.0
PRODID:-//Squarespace Inc/Squarespace 6//v6//EN
BEGIN:VEVENT
UID:5a20c6f953450a77d2f55d1a@squarespace.com
DTSTAMP:20181214T041826Z
DTSTART:20181126T080000Z
DTEND:20181126T100000Z
SUMMARY:Overcomers Outreach
END:VEVENT
END:VCALENDAR
