BEGIN:VCALENDAR
VERSION:2.0
PRODID:-//Squarespace Inc/Squarespace 6//v6//EN
BEGIN:VEVENT
UID:5a28a51ec830251eef27ef0f@squarespace.com
DTSTAMP:20171207T021945Z
DTSTART:20181105T083000Z
DTEND:20181105T093000Z
SUMMARY:Men's Prayer Night
END:VEVENT
END:VCALENDAR
