BEGIN:VCALENDAR
VERSION:2.0
PRODID:-//Squarespace Inc/Squarespace 6//v6//EN
BEGIN:VEVENT
UID:5a72507153450abdb59a3c3e@squarespace.com
DTSTAMP:20180131T232734Z
DTSTART:20181201T073000Z
DTEND:20181201T113000Z
SUMMARY:WOK (Without Kids) End of Year Progressive Dinner
END:VEVENT
END:VCALENDAR
