BEGIN:VCALENDAR
VERSION:2.0
PRODID:-//Squarespace Inc/Squarespace 6//v6//EN
BEGIN:VEVENT
UID:5c132f91352f53ad3e34f38c@squarespace.com
DTSTAMP:20181214T042153Z
DTSTART:20190527T090000Z
DTEND:20190527T110000Z
SUMMARY:Overcomers Outreach
END:VEVENT
END:VCALENDAR
