BEGIN:VCALENDAR
VERSION:2.0
PRODID:-//Squarespace Inc/Squarespace 6//v6//EN
BEGIN:VEVENT
UID:5c1c39f04ae237c9857f559f@squarespace.com
DTSTAMP:20181221T011220Z
DTSTART:20181221T010000Z
DTEND:20181221T020000Z
SUMMARY:Summer Church
END:VEVENT
END:VCALENDAR
