BEGIN:VCALENDAR
VERSION:2.0
PRODID:-//Squarespace Inc/Squarespace 6//v6//EN
BEGIN:VEVENT
UID:5a20c71d0d9297f97377a0dc@squarespace.com
DTSTAMP:20171201T030630Z
DTSTART:20181224T080000Z
DTEND:20181224T100000Z
SUMMARY:Overcomers Outreach
END:VEVENT
END:VCALENDAR
