BEGIN:VCALENDAR
VERSION:2.0
PRODID:-//Squarespace Inc/Squarespace 6//v6//EN
BEGIN:VEVENT
UID:5a28a549e2c483218c74a296@squarespace.com
DTSTAMP:20181122T001827Z
DTSTART:20181203T083000Z
DTEND:20181203T093000Z
SUMMARY:Men's Prayer Night
END:VEVENT
END:VCALENDAR
