BEGIN:VCALENDAR
VERSION:2.0
PRODID:-//Squarespace Inc/Squarespace 6//v6//EN
BEGIN:VEVENT
UID:5bd666dce79c702f87a1c556@squarespace.com
DTSTAMP:20191108T010013Z
DTSTART:20181206T213000Z
DTEND:20181211T050000Z
SUMMARY:Toys 'n' Tucker 
END:VEVENT
END:VCALENDAR
