BEGIN:VCALENDAR
VERSION:2.0
PRODID:-//Squarespace Inc/Squarespace 6//v6//EN
BEGIN:VEVENT
UID:5a20db66c8302566a3b4b0d1@squarespace.com
DTSTAMP:20171201T043313Z
DTSTART:20180419T000000Z
DTEND:20180419T020000Z
SUMMARY:Prime Time
END:VEVENT
END:VCALENDAR
