BEGIN:VCALENDAR
VERSION:2.0
PRODID:-//Squarespace Inc/Squarespace 6//v6//EN
BEGIN:VEVENT
UID:5ae113d703ce649859a1de5b@squarespace.com
DTSTAMP:20181108T233044Z
DTSTART:20180928T000000Z
DTEND:20181130T010000Z
SUMMARY:Series on 1 Corinthians
END:VEVENT
END:VCALENDAR
