BEGIN:VCALENDAR
VERSION:2.0
PRODID:-//Squarespace Inc/Squarespace 6//v6//EN
BEGIN:VEVENT
UID:5a28a42841920296526a405c@squarespace.com
DTSTAMP:20171207T021530Z
DTSTART:20180604T093000Z
DTEND:20180604T103000Z
SUMMARY:Men's Prayer Night
END:VEVENT
END:VCALENDAR
