BEGIN:VCALENDAR
VERSION:2.0
PRODID:-//Squarespace Inc/Squarespace 6//v6//EN
BEGIN:VEVENT
UID:5b4686b06d2a73a54f6a7d3c@squarespace.com
DTSTAMP:20180812T061532Z
DTSTART:20180711T230000Z
DTEND:20180923T100000Z
SUMMARY:Life Under the Sun
END:VEVENT
END:VCALENDAR
