BEGIN:VCALENDAR
VERSION:2.0
PRODID:-//Squarespace Inc/Squarespace 6//v6//EN
BEGIN:VEVENT
UID:5a20dbdbc8302566a3b4c0f8@squarespace.com
DTSTAMP:20171201T043500Z
DTSTART:20180719T000000Z
DTEND:20180719T020000Z
SUMMARY:Prime Time
END:VEVENT
END:VCALENDAR
