BEGIN:VCALENDAR
VERSION:2.0
PRODID:-//Squarespace Inc/Squarespace 6//v6//EN
BEGIN:VEVENT
UID:5a28a4830d9297f066048aab@squarespace.com
DTSTAMP:20171207T021703Z
DTSTART:20180702T093000Z
DTEND:20180702T103000Z
SUMMARY:Men's Prayer Night
END:VEVENT
END:VCALENDAR
