BEGIN:VCALENDAR
VERSION:2.0
PRODID:-//Squarespace Inc/Squarespace 6//v6//EN
BEGIN:VEVENT
UID:5a20c66ff9619acc4f54d90d@squarespace.com
DTSTAMP:20171201T030334Z
DTSTART:20180723T090000Z
DTEND:20180723T110000Z
SUMMARY:Overcomers Outreach
END:VEVENT
END:VCALENDAR
