BEGIN:VCALENDAR
VERSION:2.0
PRODID:-//Squarespace Inc/Squarespace 6//v6//EN
BEGIN:VEVENT
UID:5a724f6b9140b7f3997e4bc8@squarespace.com
DTSTAMP:20190120T235451Z
DTSTART:20180924T230000Z
DTEND:20180925T050000Z
SUMMARY:WOK (Without Kids) Visit to National Maritime Museum
END:VEVENT
END:VCALENDAR
