BEGIN:VCALENDAR
VERSION:2.0
PRODID:-//Squarespace Inc/Squarespace 6//v6//EN
BEGIN:VEVENT
UID:5a20c69124a694eb0d194af4@squarespace.com
DTSTAMP:20171201T030407Z
DTSTART:20180827T090000Z
DTEND:20180827T110000Z
SUMMARY:Overcomers Outreach
END:VEVENT
END:VCALENDAR
