BEGIN:VCALENDAR
VERSION:2.0
PRODID:-//Squarespace Inc/Squarespace 6//v6//EN
BEGIN:VEVENT
UID:5a28a4a8e2c483218c7487a5@squarespace.com
DTSTAMP:20171207T021741Z
DTSTART:20180806T093000Z
DTEND:20180806T103000Z
SUMMARY:Men's Prayer Night
END:VEVENT
END:VCALENDAR
