BEGIN:VCALENDAR
VERSION:2.0
PRODID:-//Squarespace Inc/Squarespace 6//v6//EN
BEGIN:VEVENT
UID:5b83483470a6ad58d0452ea3@squarespace.com
DTSTAMP:20180908T102400Z
DTSTART:20180914T070000Z
DTEND:20180914T080000Z
SUMMARY:Year 6 'Pizza Party' (Anchor Youth)
END:VEVENT
END:VCALENDAR
