BEGIN:VCALENDAR
VERSION:2.0
PRODID:-//Squarespace Inc/Squarespace 6//v6//EN
BEGIN:VEVENT
UID:5aa1f1308165f526f0edfe47@squarespace.com
DTSTAMP:20180309T022814Z
DTSTART:20180915T033000Z
DTEND:20180915T063000Z
SUMMARY:Craft & Chat
END:VEVENT
END:VCALENDAR
