BEGIN:VCALENDAR
VERSION:2.0
PRODID:-//Squarespace Inc/Squarespace 6//v6//EN
BEGIN:VEVENT
UID:5b6fcccff950b71d4a696ad0@squarespace.com
DTSTAMP:20180812T061800Z
DTSTART:20180915T080000Z
DTEND:20180915T110000Z
SUMMARY:Men's Night
END:VEVENT
END:VCALENDAR
