BEGIN:VCALENDAR
VERSION:2.0
PRODID:-//Squarespace Inc/Squarespace 6//v6//EN
BEGIN:VEVENT
UID:5a20dc21ec212d686ca832ff@squarespace.com
DTSTAMP:20171201T043612Z
DTSTART:20180920T000000Z
DTEND:20180920T020000Z
SUMMARY:Prime Time
END:VEVENT
END:VCALENDAR
